BEGIN:VCALENDAR
VERSION:2.0
PRODID:-//ChamberMaster//Event Calendar 2.0//EN
METHOD:PUBLISH
X-PUBLISHED-TTL:P3D
REFRESH-INTERVAL:P3D
CALSCALE:GREGORIAN
BEGIN:VEVENT
DTSTART:20160414T131500Z
DTEND:20160414T141500Z
X-MICROSOFT-CDO-ALLDAYEVENT:FALSE
SUMMARY:Marketing 2.0
DESCRIPTION:Want to learn how the Chamber can help you market your business?\n\n \n\nWhether new to the Chamber or an existing Member\, join us for updates and individualized marketing suggestions for your business!\n\n \n\nJoin us for light refreshments and coffee!\n\n \n\nEvery Other Month on the second Thursday\n\n \n\n8:15 am to 9:15 am
X-ALT-DESC;FMTTYPE=text/html:<span style="language:en-US\;">Want to learn how the Chamber can help </span><span style="language:en-US\;">you market your business?</span><br />\n&nbsp\;<br />\n<span style="language:en-US\;">Whether new to the Chamber or an existing </span><span style="language:en-US\;">Member\, join us for updates and individualized marketing suggestions for your business!</span><br />\n&nbsp\;<br />\n<span style="language:en-US\;">Join us for light refreshments and coffee!</span><br />\n&nbsp\;<br />\n<span style="language:en-US\;">Every Other Month on the second Thursday</span><br />\n&nbsp\;<br />\n<span style="language:en-US\;">8:15 am to 9:15 am</span><br />\n<br />\n&nbsp\;
LOCATION:Chamber Office 21370 John Milless Drive Enter through main doors\, then down the hall to the right
UID:e.1321.1766
SEQUENCE:3
DTSTAMP:20260422T030033Z
URL:https://business.i94westchamber.org/events/details/marketing-2-0-04-14-2016-1766
END:VEVENT

END:VCALENDAR
