BEGIN:VCALENDAR
VERSION:2.0
PRODID:-//ChamberMaster//Event Calendar 2.0//EN
METHOD:PUBLISH
X-PUBLISHED-TTL:P3D
REFRESH-INTERVAL:P3D
CALSCALE:GREGORIAN
BEGIN:VEVENT
DTSTART:20150201T013000Z
DTEND:20150201T040000Z
X-MICROSOFT-CDO-ALLDAYEVENT:FALSE
SUMMARY:Marshall Tucker Band & Atlanta Rythem Section
DESCRIPTION:SATURDAY\, JANUARY 31st\, 2015\n\nThe Marshall Tucker Band & Atlanta Rhythm Section \n\nDoors - 7:30 pm / Show - 8:30 pm This event is 21+\n\nStarting at $36.33 (Taxes & Fees Included)
X-ALT-DESC;FMTTYPE=text/html:<h5>SATURDAY\, JANUARY 31st\, 2015</h5>\n\n<h3><a href="http://medinaentertainment.com/event_listings/the-marshall-tucker-band-atlanta-rhythm-section/"><font color="#0066cc">The Marshall Tucker Band &amp\; Atlanta Rhythm Section </font></a></h3>\n\n<h6>Doors - 7:30 pm / Show - 8:30 pm This event is 21+</h6>\n\n<h4>Starting at $36.33 (Taxes &amp\; Fees Included)</h4>\n
LOCATION:Medina Entertainment Center
UID:e.1321.1395
SEQUENCE:3
DTSTAMP:20260424T125430Z
URL:https://business.i94westchamber.org/events/details/marshall-tucker-band-atlanta-rythem-section-01-31-2015-1395
END:VEVENT

END:VCALENDAR
