BEGIN:VCALENDAR
VERSION:2.0
PRODID:-//ChamberMaster//Event Calendar 2.0//EN
METHOD:PUBLISH
X-PUBLISHED-TTL:P3D
REFRESH-INTERVAL:P3D
CALSCALE:GREGORIAN
BEGIN:VEVENT
DTSTART:20160624T140000Z
DTEND:20160624T170000Z
X-MICROSOFT-CDO-ALLDAYEVENT:FALSE
SUMMARY:Mary Queen of Peace Garage Sale
DESCRIPTION:Mary Queen of Peace Church Garage Sale\n\n \n\nThursday\, June 23     9:00 am   5:00 pm\n\nFriday\, June 24      9:00 am   Noon\n\n \n\nLocated in the red pole shed on Church St.\, across from the Church in Rogers.\n\n \n\nMany items including folding tables\, chairs\, various storage cabinets\, 3 compartment sink\, & much more!
X-ALT-DESC;FMTTYPE=text/html:<strong><span style="font-size:20.0pt\;">Mary Queen of Peace Church Garage Sale</span></strong><br />\n&nbsp\;<br />\n<span style="font-size:16px\;">Thursday\, June 23&nbsp\;&nbsp\;&nbsp\;&nbsp\; 9:00 am &ndash\; 5:00 pm<br />\nFriday\, June 24&nbsp\;&nbsp\; &nbsp\;&nbsp\; 9:00 am &ndash\; Noon<br />\n&nbsp\;<br />\nLocated in the red pole shed on Church St.\, across from the Church in Rogers.<br />\n&nbsp\;<br />\nMany items including folding tables\, chairs\, various storage cabinets\, 3 compartment sink\, &amp\; much more!</span><br />\n&nbsp\;
LOCATION:Red pole shed on Church Street\, Rogers
UID:e.1321.1955
SEQUENCE:3
DTSTAMP:20260422T001700Z
URL:https://business.i94westchamber.org/events/details/mary-queen-of-peace-garage-sale-06-24-2016-1955
END:VEVENT

END:VCALENDAR
