BEGIN:VCALENDAR
VERSION:2.0
PRODID:-//ChamberMaster//Event Calendar 2.0//EN
METHOD:PUBLISH
X-PUBLISHED-TTL:P3D
REFRESH-INTERVAL:P3D
CALSCALE:GREGORIAN
BEGIN:VEVENT
DTSTART;VALUE=DATE:20150926
DTEND;VALUE=DATE:20150928
TRANSP:TRANSPARENT
X-MICROSOFT-CDO-ALLDAYEVENT:TRUE
SUMMARY:Mary Queen of Peace Parish Festival 2015
DESCRIPTION:
X-ALT-DESC;FMTTYPE=text/html:
LOCATION:St. Martin Campus 21304 Church Ave. Rogers\, MN
UID:e.1321.1690
SEQUENCE:3
DTSTAMP:20260422T125344Z
URL:https://business.i94westchamber.org/events/details/mary-queen-of-peace-parish-festival-2015-09-26-2015-1690
END:VEVENT

END:VCALENDAR
