BEGIN:VCALENDAR
VERSION:2.0
PRODID:-//ChamberMaster//Event Calendar 2.0//EN
METHOD:PUBLISH
X-PUBLISHED-TTL:P3D
REFRESH-INTERVAL:P3D
CALSCALE:GREGORIAN
BEGIN:VEVENT
DTSTART:20161103T000000Z
DTEND:20161103T020000Z
X-MICROSOFT-CDO-ALLDAYEVENT:FALSE
SUMMARY:Mayor to Mayor Conversation
DESCRIPTION:Hamline University will be hosting a mayor-to-mayor conversation with former Saint Paul mayor\, now professor of practice at the Hamline School of Business\, Jim Scheibel\, and R.T. Rybak who served as the mayor of Minneapolis from 2002-2014.
X-ALT-DESC;FMTTYPE=text/html:<span style="letter-spacing:.45pt\;"><span style="color:black\;">Hamline University will be hosting a mayor-to-mayor conversation with former Saint Paul mayor\, now professor of practice at the Hamline School of Business\, Jim Scheibel\, and R.T. Rybak who served as the mayor of Minneapolis from 2002-2014.</span></span>
LOCATION:Where: Hamline University\, Saint Paul campus\, Klas Center\, Kay Fredericks Room
UID:e.1321.2465
SEQUENCE:3
DTSTAMP:20260421T172212Z
URL:https://business.i94westchamber.org/events/details/mayor-to-mayor-conversation-2465
END:VEVENT

END:VCALENDAR
