BEGIN:VCALENDAR
VERSION:2.0
PRODID:-//ChamberMaster//Event Calendar 2.0//EN
METHOD:PUBLISH
X-PUBLISHED-TTL:P3D
REFRESH-INTERVAL:P3D
CALSCALE:GREGORIAN
BEGIN:VEVENT
DTSTART:20150613T150000Z
DTEND:20150613T180000Z
X-MICROSOFT-CDO-ALLDAYEVENT:FALSE
SUMMARY:Medina Bike Safety Rodeo
DESCRIPTION:Join us in the Medina Target Parking Lot from 10am to 1pm.\n\nAges 3-12 years old. Please register by June 5th.
X-ALT-DESC;FMTTYPE=text/html:Join us in the Medina Target Parking Lot from 10am to 1pm.<br />\nAges 3-12 years old. Please register by June 5th.
LOCATION:
UID:e.1321.1557
SEQUENCE:3
DTSTAMP:20260422T184103Z
URL:https://business.i94westchamber.org/events/details/medina-bike-safety-rodeo-06-13-2015-1557
END:VEVENT

END:VCALENDAR
