BEGIN:VCALENDAR
VERSION:2.0
PRODID:-//ChamberMaster//Event Calendar 2.0//EN
METHOD:PUBLISH
X-PUBLISHED-TTL:P3D
REFRESH-INTERVAL:P3D
CALSCALE:GREGORIAN
BEGIN:VEVENT
DTSTART:20150610T230000Z
DTEND:20150611T003000Z
X-MICROSOFT-CDO-ALLDAYEVENT:FALSE
SUMMARY:Medina Monarchs\, Milkweed\, & Pollinator Seminar
DESCRIPTION:Come and learn about Monarchs\, Planting Milkweed\, & Pollinators.
X-ALT-DESC;FMTTYPE=text/html:Come and learn about Monarchs\, Planting Milkweed\, &amp\; Pollinators.
LOCATION:Medina City Hall 2052 County Rd 24
UID:e.1321.1555
SEQUENCE:3
DTSTAMP:20260422T171736Z
URL:https://business.i94westchamber.org/events/details/medina-monarchs-milkweed-pollinator-seminar-06-10-2015-1555
END:VEVENT

END:VCALENDAR
