BEGIN:VCALENDAR
VERSION:2.0
PRODID:-//ChamberMaster//Event Calendar 2.0//EN
METHOD:PUBLISH
X-PUBLISHED-TTL:P3D
REFRESH-INTERVAL:P3D
CALSCALE:GREGORIAN
BEGIN:VEVENT
DTSTART:20150611T230000Z
DTEND:20150612T010000Z
X-MICROSOFT-CDO-ALLDAYEVENT:FALSE
SUMMARY:Medina Wildlife / Nature Walk
DESCRIPTION:Medina Park Commissioner Madeleine Linck will lead us on an insightful and educational evening wildlife/nature walk through Tomann Preserve.
X-ALT-DESC;FMTTYPE=text/html:Medina Park Commissioner Madeleine Linck will lead us on an insightful and educational evening wildlife/nature walk through Tomann Preserve.
LOCATION:Tomann Preserve 3112 Pioneer Trail
UID:e.1321.1556
SEQUENCE:3
DTSTAMP:20260422T183905Z
URL:https://business.i94westchamber.org/events/details/medina-wildlife-nature-walk-06-11-2015-1556
END:VEVENT

END:VCALENDAR
