BEGIN:VCALENDAR
VERSION:2.0
PRODID:-//ChamberMaster//Event Calendar 2.0//EN
METHOD:PUBLISH
X-PUBLISHED-TTL:P3D
REFRESH-INTERVAL:P3D
CALSCALE:GREGORIAN
BEGIN:VEVENT
DTSTART:20160419T223000Z
DTEND:20160420T020000Z
X-MICROSOFT-CDO-ALLDAYEVENT:FALSE
SUMMARY:Minnesota Women Business Owners Hall of Fame 2016
DESCRIPTION:On April 19\, nine women are to be inducted into the Minnesota Women Business Owners Hall of Fame during a gala event at the Golden Valley Country Club from 5:30 to 9:00 pm. The inductees have made enduring contributions to Minnesota?s entrepreneurial community as women and have demonstrated leadership qualities that serve as as inspiration to future Minnesota entrepreneurs. This year?s honorees are: M. Marie Bak\, Service\, Dependability\, Quality\, Ltd.\, Minnetonka. I Judy Auston Figge\, Prairie Home Care Inc\, Minnetonka. Marya Owston Hage\, Meridian Services\, Minneapolis. Elise Hernandez\, Ideal System Solutions\, Minnetonka. Darlene M. Miller\, Permac Industries\, Burnsville. Marcia Page\, V rde Partners\, Minneapolis. Lydia Deubener\, St. Paul. Posthumous. Nola Treat and Lenore Richards\, Posthumous\, Richards Treat Cafe\, Minneapolis. Seats are limited\, so make your reservations today.
X-ALT-DESC;FMTTYPE=text/html:On April 19\, nine women are to be inducted into the Minnesota Women Business Owners Hall of Fame during a gala event at the Golden Valley Country Club from 5:30 to 9:00 pm. The inductees have made enduring contributions to Minnesota?s entrepreneurial community as women and have demonstrated leadership qualities that serve as as inspiration to future Minnesota entrepreneurs. This year?s honorees are: M. Marie Bak\, Service\, Dependability\, Quality\, Ltd.\, Minnetonka. I Judy Auston Figge\, Prairie Home Care Inc\, Minnetonka. Marya Owston Hage\, Meridian Services\, Minneapolis. Elise Hernandez\, Ideal System Solutions\, Minnetonka. Darlene M. Miller\, Permac Industries\, Burnsville. Marcia Page\, V&auml\;rde Partners\, Minneapolis. Lydia Deubener\, St. Paul. Posthumous. Nola Treat and Lenore Richards\, Posthumous\, Richards Treat Cafe\, Minneapolis. Seats are limited\, so make your reservations today.
LOCATION:Golden Valley Country Club
UID:e.1321.1882
SEQUENCE:3
DTSTAMP:20260422T042318Z
URL:https://business.i94westchamber.org/events/details/minnesota-women-business-owners-hall-of-fame-2016-04-19-2016-1882
END:VEVENT

END:VCALENDAR
