BEGIN:VCALENDAR
VERSION:2.0
PRODID:-//ChamberMaster//Event Calendar 2.0//EN
METHOD:PUBLISH
X-PUBLISHED-TTL:P3D
REFRESH-INTERVAL:P3D
CALSCALE:GREGORIAN
BEGIN:VEVENT
DTSTART:20161204T160000Z
DTEND:20161204T180000Z
X-MICROSOFT-CDO-ALLDAYEVENT:FALSE
SUMMARY:MnTC Choir
DESCRIPTION:MINNESOTA ADULT & TEEN CHALLENGE CHOIR TO PERFORM in CORCORAN\, MN\n\nInspiring Choir Composed of Teen & Adults Recovering from Drug and Alcohol Addiction / Minnesota Adult & Teen Challenge (MnTC) announced today that Immanuel United Methodist will host the MnTC Choir in a free performance on Sunday\, December 4\, 2016. The MnTC Choir is known statewide\, having performed at nearly 200 churches in 2015.\n\nThe choir's contemporary Gospel and Praise songs will be accompanied by inspiring client stories of addiction recovery. The public is welcome.  There will be a potluck meal following the service.
X-ALT-DESC;FMTTYPE=text/html:<span style="color:black\;"><span style="font-family:arial\,sans-serif\;"><span style="font-size:10.0pt\;">MINNESOTA ADULT &amp\; TEEN CHALLENGE CHOIR TO PERFORM in CORCORAN\, MN</span></span></span><br />\n<span style="color:black\;"><span style="font-family:arial\,sans-serif\;"><span style="font-size:10.0pt\;">Inspiring Choir Composed of Teen &amp\; Adults Recovering from Drug and Alcohol Addiction</span></span></span><span style="color:black\;"><span style="font-family:arial\,sans-serif\;"><span style="font-size:10.0pt\;"> / Minnesota Adult &amp\; Teen Challenge (MnTC) announced today that Immanuel United Methodist will host the MnTC Choir in a free performance on Sunday\, December 4\, 2016. The MnTC Choir is known statewide\, having performed at nearly 200 churches in 2015.</span></span></span><br />\n<span style="color:black\;"><span style="font-family:arial\,sans-serif\;"><span style="font-size:10.0pt\;">The choir&rsquo\;s contemporary Gospel and Praise songs will be accompanied by inspiring client stories of addiction recovery. The public is welcome.&nbsp\; There will be a potluck meal following the service.</span></span></span><br />\n&nbsp\;
LOCATION:Immanuel United Methodist 10025 County Rd. 101\, Corcoran\, MN 55340.
UID:e.1321.2569
SEQUENCE:3
DTSTAMP:20260421T155303Z
URL:https://business.i94westchamber.org/events/details/mntc-choir-2569
END:VEVENT

END:VCALENDAR
