BEGIN:VCALENDAR
VERSION:2.0
PRODID:-//ChamberMaster//Event Calendar 2.0//EN
METHOD:PUBLISH
X-PUBLISHED-TTL:P3D
REFRESH-INTERVAL:P3D
CALSCALE:GREGORIAN
BEGIN:VEVENT
DTSTART:20150502T160000Z
DTEND:20150502T170000Z
X-MICROSOFT-CDO-ALLDAYEVENT:FALSE
SUMMARY:Modern Day Budgeting
DESCRIPTION:In this class\, you will learn a simple & effective way to manage expenditures\, reduce debt\, increase savings\, and fund important life goals.
X-ALT-DESC;FMTTYPE=text/html:In this class\, you will learn a simple &amp\; effective way to manage expenditures\, reduce debt\, increase savings\, and fund important life goals.
LOCATION:Rogers Library 21300 John Milless Dr. Rogers \, MN 55374 612-543-6050
UID:e.1321.1387
SEQUENCE:3
DTSTAMP:20260422T183451Z
URL:https://business.i94westchamber.org/events/details/modern-day-budgeting-05-02-2015-1387
END:VEVENT

END:VCALENDAR
