BEGIN:VCALENDAR
VERSION:2.0
PRODID:-//ChamberMaster//Event Calendar 2.0//EN
METHOD:PUBLISH
X-PUBLISHED-TTL:P3D
REFRESH-INTERVAL:P3D
CALSCALE:GREGORIAN
BEGIN:VEVENT
DTSTART:20141115T180000Z
DTEND:20141115T200000Z
X-MICROSOFT-CDO-ALLDAYEVENT:FALSE
SUMMARY:Mother & Son Hoedown
DESCRIPTION:Mother Son Hoedown\n\nMothers and their sons\, in Kindergarten- Sixth grade\, are invited to put on their jeans and boots\, grab a Stetson and join us for two-steppin' tunes\, lunch\, and Cowboy games that will ensure a good time for everyone!\n\nSaturday\, November 15\, 2014\n\nHigh noon   2:00p.m.\n\nLocation: Albertville City Hall- 5959 Main Avenue NE\, Albertville\, MN 55301\n\nAdmission: $20 mother/son (additional sons $5 each)\n\nA professional photographer will be available to take a lasting memory. A variety of photo packages will be available to purchase.
X-ALT-DESC;FMTTYPE=text/html:<p><strong>Mother Son Hoedown</strong></p>\n\n<p>Mothers and their sons\, in Kindergarten- Sixth grade\, are invited to put on their jeans and boots\, grab a Stetson and join us for two-steppin&rsquo\; tunes\, lunch\, and Cowboy games that will ensure a good time for everyone!</p>\n\n<p><strong>Saturday\, November 15\, 2014</strong></p>\n\n<p><strong>High noon &ndash\; 2:00p.m</strong><strong>.</strong></p>\n\n<p>Location: <strong>Albertville City Hall</strong>- 5959 Main Avenue NE\, Albertville\, MN 55301</p>\n\n<p>Admission: $20 mother/son (additional sons $5 each)</p>\n\n<p>A professional photographer will be available to take a lasting memory. A variety of photo packages will be available to purchase.</p>\n
LOCATION:
UID:e.1321.1260
SEQUENCE:3
DTSTAMP:20260424T141748Z
URL:https://business.i94westchamber.org/events/details/mother-son-hoedown-11-15-2014-1260
END:VEVENT

END:VCALENDAR
