BEGIN:VCALENDAR
VERSION:2.0
PRODID:-//ChamberMaster//Event Calendar 2.0//EN
METHOD:PUBLISH
X-PUBLISHED-TTL:P3D
REFRESH-INTERVAL:P3D
CALSCALE:GREGORIAN
BEGIN:VEVENT
DTSTART:20160911T004500Z
DTEND:20160911T030000Z
X-MICROSOFT-CDO-ALLDAYEVENT:FALSE
SUMMARY:Movie in the Park
DESCRIPTION:Rogers Parks and Recreation presents Movie at Dusk\n\nfeaturing "ANT-MAN" Rated PG-13
X-ALT-DESC;FMTTYPE=text/html:Rogers Parks and Recreation presents Movie at Dusk<br />\nfeaturing &quot\;ANT-MAN&quot\; Rated PG-13
LOCATION:Triangle Park/Veteran's Memorial 12724 Main Street Rogers\, MN 55374
UID:e.1321.2407
SEQUENCE:3
DTSTAMP:20260421T201159Z
URL:https://business.i94westchamber.org/events/details/movie-in-the-park-09-10-2016-2407
END:VEVENT

END:VCALENDAR
