BEGIN:VCALENDAR
VERSION:2.0
PRODID:-//ChamberMaster//Event Calendar 2.0//EN
METHOD:PUBLISH
X-PUBLISHED-TTL:P3D
REFRESH-INTERVAL:P3D
CALSCALE:GREGORIAN
BEGIN:VEVENT
DTSTART:20160902T011500Z
DTEND:20160902T024500Z
X-MICROSOFT-CDO-ALLDAYEVENT:FALSE
SUMMARY:Movie in the Park
DESCRIPTION:Rogers Parks and Recreation presents Movie at Dusk\n\nfeaturing Disney/PIXAR's Inside Out
X-ALT-DESC;FMTTYPE=text/html:Rogers Parks and Recreation presents Movie at Dusk<br />\nfeaturing Disney/PIXAR&#39\;s Inside Out<br />\n&nbsp\;
LOCATION:Triangle Park/Veteran's Memorial 12724 Main Street Rogers\, MN 55374
UID:e.1321.2406
SEQUENCE:3
DTSTAMP:20260421T201026Z
URL:https://business.i94westchamber.org/events/details/movie-in-the-park-2406
END:VEVENT

END:VCALENDAR
