BEGIN:VCALENDAR
VERSION:2.0
PRODID:-//ChamberMaster//Event Calendar 2.0//EN
METHOD:PUBLISH
X-PUBLISHED-TTL:P3D
REFRESH-INTERVAL:P3D
CALSCALE:GREGORIAN
BEGIN:VEVENT
DTSTART:20150101T160000Z
DTEND:20150101T170000Z
X-MICROSOFT-CDO-ALLDAYEVENT:FALSE
SUMMARY:New Year Community Celebratory Worship Service
DESCRIPTION:Start your New Year 2015 in a special and unique service which will energize and renew your purpose in life. Special prayers and a relevant homily will be given as well as time to reflect and think of goals for the new calendar year. All are welcome regardless of church affiliation of denomination.
X-ALT-DESC;FMTTYPE=text/html:Start your New Year 2015 in a special and unique service which will energize and renew your purpose in life. Special prayers and a relevant homily will be given as well as time to reflect and think of goals for the new calendar year. All are welcome regardless of church affiliation of denomination.
LOCATION:Holy Trinity Episcopal Church 1326 4th Street NW Elk River
UID:e.1321.1376
SEQUENCE:3
DTSTAMP:20260424T125312Z
URL:https://business.i94westchamber.org/events/details/new-year-community-celebratory-worship-service-01-01-2015-1376
END:VEVENT

END:VCALENDAR
