BEGIN:VCALENDAR
VERSION:2.0
PRODID:-//ChamberMaster//Event Calendar 2.0//EN
METHOD:PUBLISH
X-PUBLISHED-TTL:P3D
REFRESH-INTERVAL:P3D
CALSCALE:GREGORIAN
BEGIN:VEVENT
DTSTART:20160209T223000Z
DTEND:20160210T000000Z
X-MICROSOFT-CDO-ALLDAYEVENT:FALSE
SUMMARY:Night Club - Fat Tuesday
DESCRIPTION:Join us for Happy Hour / Costume Contest/ Prizes\n\nGreat networking!\n\nFree to Attend - Cash Bar.
X-ALT-DESC;FMTTYPE=text/html:Join us for Happy Hour / Costume Contest/ Prizes<br />\nGreat networking!<br />\nFree to Attend - Cash Bar.
LOCATION:The Highlander Restaurant & Pub Rush Creek Golf Club
UID:e.1321.1715
SEQUENCE:3
DTSTAMP:20260422T065953Z
URL:https://business.i94westchamber.org/events/details/night-club-fat-tuesday-02-09-2016-1715
END:VEVENT

END:VCALENDAR
