BEGIN:VCALENDAR
VERSION:2.0
PRODID:-//ChamberMaster//Event Calendar 2.0//EN
METHOD:PUBLISH
X-PUBLISHED-TTL:P3D
REFRESH-INTERVAL:P3D
CALSCALE:GREGORIAN
BEGIN:VEVENT
DTSTART:20160810T223000Z
DTEND:20160811T010000Z
X-MICROSOFT-CDO-ALLDAYEVENT:FALSE
SUMMARY:Night Out with the Ladies
DESCRIPTION:Free Chair Massages\, Shopping\, & Appetizers
X-ALT-DESC;FMTTYPE=text/html:Free Chair Massages\, Shopping\, &amp\; Appetizers
LOCATION:Rogers Community Center
UID:e.1321.1989
SEQUENCE:3
DTSTAMP:20260421T230313Z
URL:https://business.i94westchamber.org/events/details/night-out-with-the-ladies-08-10-2016-1989
END:VEVENT

END:VCALENDAR
