BEGIN:VCALENDAR
VERSION:2.0
PRODID:-//ChamberMaster//Event Calendar 2.0//EN
METHOD:PUBLISH
X-PUBLISHED-TTL:P3D
REFRESH-INTERVAL:P3D
CALSCALE:GREGORIAN
BEGIN:VEVENT
DTSTART:20170506T160000Z
DTEND:20170506T190000Z
X-MICROSOFT-CDO-ALLDAYEVENT:FALSE
SUMMARY:Northern
DESCRIPTION:11:00am Health Talk\n\n\n\nFood\, pampering\, and shopping from local Artisans.
X-ALT-DESC;FMTTYPE=text/html:11:00am Health Talk<br>\n<br>\nFood\, pampering\, and shopping from local Artisans.
LOCATION:Northern Community Chiropractic 20965 S Diamond Lake Road Rogers\, MN
UID:e.1321.2955
SEQUENCE:3
DTSTAMP:20260421T082849Z
URL:https://business.i94westchamber.org/events/details/northern-2955
END:VEVENT

END:VCALENDAR
