BEGIN:VCALENDAR
VERSION:2.0
PRODID:-//ChamberMaster//Event Calendar 2.0//EN
METHOD:PUBLISH
X-PUBLISHED-TTL:P3D
REFRESH-INTERVAL:P3D
CALSCALE:GREGORIAN
BEGIN:VEVENT
DTSTART:20170505T150000Z
DTEND:20170505T220000Z
X-MICROSOFT-CDO-ALLDAYEVENT:FALSE
SUMMARY:One Year Anniversary
DESCRIPTION:Sport Clips Haircuts of Rogers celebrates first year of business!\n\nPlease join us for our 1 year anniversary event on Friday May 5th from 10am   5pm at our Sport Clips location at 13545 Northdale Blvd across from Super Target in Rogers\, MN.\n\n\n\n\n\nOur Guy-Smart Stylists understand that each Client is different and makes every effort to provide personal attention. Sport Clips Stylists deliver the ultimate Just-for-Guys haircut experience without the fuss and chitchat of a full service hair salon. They are consistently trained to cut the latest men's hairstyles and will work with you to get your hair just the way you want it in a comfortable\, sports-themed environment.\n\nRogers Sport Clips is open 7 days a week\, and no appointment is needed.  Just walk in\, sit down and watch sports on TV.  We understand our male clients' needs\, so we are always staffed appropriately so there is never a long wait.\n\nWe have had a great first year of business in Rogers and look forward to you stopping in on Friday the 5th of May to help us celebrate and get a great haircut and our MVP treatment!\n\nThank you in advance for taking the time to stop by and learn more about Sport Clips.
X-ALT-DESC;FMTTYPE=text/html:<strong><span style="font-size:14.0pt\;">Sport Clips Haircuts of Rogers celebrates first year of business!</span></strong><br />\n<span style="font-size:12.0pt\;">Please join us for our 1 year anniversary event on <strong><u>Friday May 5th from 10am &ndash\; 5pm</u></strong> at our Sport Clips location at 13545 Northdale Blvd across from Super Target in Rogers\, MN.</span><br />\n<br />\n<br />\n<span style="font-size:12.0pt\;">Our Guy-Smart Stylists understand that each Client is different and makes every effort to provide personal attention. Sport Clips Stylists deliver </span><span style="font-size:12.0pt\;">the</span><span style="font-size:12.0pt\;"> ultimate Just-for-Guys haircut experience without the fuss and chitchat of a full service hair salon. They are consistently trained to cut the latest men&rsquo\;s hairstyles and will work with you to get your hair just the way you want it in a comfortable\, sports-</span><span style="font-size:12.0pt\;">themed</span><span style="font-size:12.0pt\;"> environment.</span><br />\n<span style="font-size:12.0pt\;">Rogers Sport Clips is open 7 days a week\, and no appointment is needed.&nbsp\; Just walk in\, sit down and watch sports on TV.&nbsp\; We understand our male clients&rsquo\; needs\, so we are always staffed </span><span style="font-size:12.0pt\;">appropriately so there is never a long wait.</span><br />\n<span style="font-size:12.0pt\;">We have had a great first year of business in Rogers and look forward to you stopping in on Friday the 5<sup>th</sup> of May to help us celebrate and get a great haircut and our MVP treatment!</span><br />\n<span style="font-size:12.0pt\;">Thank you in advance for taking the time to stop by and learn more about Sport Clips. </span><br />\n&nbsp\;
LOCATION:13545 Northdale Blvd #10\, Rogers\, MN 55374
UID:e.1321.2989
SEQUENCE:3
DTSTAMP:20260423T084412Z
URL:https://business.i94westchamber.org/events/details/one-year-anniversary-2989
END:VEVENT

END:VCALENDAR
