BEGIN:VCALENDAR
VERSION:2.0
PRODID:-//ChamberMaster//Event Calendar 2.0//EN
METHOD:PUBLISH
X-PUBLISHED-TTL:P3D
REFRESH-INTERVAL:P3D
CALSCALE:GREGORIAN
BEGIN:VEVENT
DTSTART:20150919T130000Z
DTEND:20150919T170000Z
X-MICROSOFT-CDO-ALLDAYEVENT:FALSE
SUMMARY:Open House - Free Classes / Treats
DESCRIPTION:On Saturday\, September 19th\, we're hosting our very first OPEN HOUSE! Workout for free! If you're already a member\, invite a friend to workout for free!
X-ALT-DESC;FMTTYPE=text/html:On Saturday\, September 19th\, we&#39\;re hosting our very first OPEN HOUSE! Workout for free! If you&#39\;re already a member\, invite a friend to workout for free!
LOCATION:
UID:e.1321.1716
SEQUENCE:3
DTSTAMP:20260422T124817Z
URL:https://business.i94westchamber.org/events/details/open-house-free-classes-treats-09-19-2015-1716
END:VEVENT

END:VCALENDAR
