BEGIN:VCALENDAR
VERSION:2.0
PRODID:-//ChamberMaster//Event Calendar 2.0//EN
METHOD:PUBLISH
X-PUBLISHED-TTL:P3D
REFRESH-INTERVAL:P3D
CALSCALE:GREGORIAN
BEGIN:VEVENT
DTSTART:20140907T150000Z
DTEND:20140907T173000Z
X-MICROSOFT-CDO-ALLDAYEVENT:FALSE
SUMMARY:Open House/Rally and Family Picnic Sunday
DESCRIPTION:Please be our guest for Open House/Rally/Renewal/ Family Picnic Sunday. We will begin with a festive worship service in which we will bless student backpacks and electronic tablets as well as the students themselves. This will also be our first day of Sunday School. Teachers will also be blessed\, If you are church hunting\, please be our guest and bring the entire family for this special event. A Family Picnic follows in the Parish Hall and there is no fee required for the morning's activities.
X-ALT-DESC;FMTTYPE=text/html:Please be our guest for Open House/Rally/Renewal/ Family Picnic Sunday. We will begin with a festive worship service in which we will bless student backpacks and electronic tablets as well as the students themselves. This will also be our first day of Sunday School. Teachers will also be blessed\, If you are church hunting\, please be our guest and bring the entire family for this special event. A Family Picnic follows in the Parish Hall and there is no fee required for the morning&#39\;s activities.
LOCATION:Holy Trinity Episcopal Church 1326 4th Street NW Elk River\, MN 55330
UID:e.1321.1182
SEQUENCE:3
DTSTAMP:20260424T165818Z
URL:https://business.i94westchamber.org/events/details/open-house-rally-and-family-picnic-sunday-09-07-2014-1182
END:VEVENT

END:VCALENDAR
