BEGIN:VCALENDAR
VERSION:2.0
PRODID:-//ChamberMaster//Event Calendar 2.0//EN
METHOD:PUBLISH
X-PUBLISHED-TTL:P3D
REFRESH-INTERVAL:P3D
CALSCALE:GREGORIAN
BEGIN:VEVENT
DTSTART:20150630T120000Z
DTEND:20150630T230000Z
X-MICROSOFT-CDO-ALLDAYEVENT:FALSE
SUMMARY:Open Interviews
DESCRIPTION:The Holiday Inn Express & Suites Rogers is looking for friendly\, trustworthy\, and reliable people to join our Front Desk and Housekeeping teams.  Full and part-time positions are available.\n\n \n\nOpen Interviews\n\nTuesday\, June 30th \n\n7am 7pm\n\n \n\nOr stop in anytime for an application!\n\n \n\n P.S. Our employees get GREAT hotel discounts at all IHG properties!
X-ALT-DESC;FMTTYPE=text/html:<div style="text-align:center"><span style="font-family:calibri"><span style="font-size:14pt">The Holiday Inn Express &amp\; Suites Rogers is looking for friendly\,&nbsp\;trustworthy\, and reliable people to join our Front Desk and Housekeeping teams.&nbsp\; Full and part-time positions are available.</span></span><br />\n&nbsp\;<br />\n<strong><span style="font-family:calibri"><span style="font-size:18pt">Open Interviews</span></span></strong><br />\n<span style="font-family:calibri"><span style="font-size:14pt">Tuesday\, June 30th&nbsp\;</span></span><br />\n<span style="font-family:calibri"><span style="font-size:14pt">7am&mdash\;7pm</span></span><br />\n&nbsp\;<br />\n<span style="font-family:calibri"><span style="font-size:14pt">Or stop in anytime for an application!</span></span><br />\n&nbsp\;</div>\n\n<div style="text-align:center">&nbsp\;<em>P.S. Our employees get GREAT hotel</em>&nbsp\;<em><span style="font-size:12pt"><span style="font-family:calibri">discounts at all IHG properties!</span></span></em></div>\n
LOCATION:Holiday Inn Express & Suites Rogers\, 20930 135th Avenue N.\, Rogers\, MN 55374
UID:e.1321.1648
SEQUENCE:3
DTSTAMP:20260422T170602Z
URL:https://business.i94westchamber.org/events/details/open-interviews-06-30-2015-1648
END:VEVENT

END:VCALENDAR
