BEGIN:VCALENDAR
VERSION:2.0
PRODID:-//ChamberMaster//Event Calendar 2.0//EN
METHOD:PUBLISH
X-PUBLISHED-TTL:P3D
REFRESH-INTERVAL:P3D
CALSCALE:GREGORIAN
BEGIN:VEVENT
DTSTART:20160814T210000Z
DTEND:20160814T223000Z
X-MICROSOFT-CDO-ALLDAYEVENT:FALSE
SUMMARY:Open Skate at RAC
DESCRIPTION:Show a school supply receipt from a Rogers store and skate free
X-ALT-DESC;FMTTYPE=text/html:Show a school supply receipt from a Rogers store and skate free
LOCATION:
UID:e.1321.2388
SEQUENCE:3
DTSTAMP:20260421T213420Z
URL:https://business.i94westchamber.org/events/details/open-skate-at-rac-08-14-2016-2388
END:VEVENT

END:VCALENDAR
