BEGIN:VCALENDAR
VERSION:2.0
PRODID:-//ChamberMaster//Event Calendar 2.0//EN
METHOD:PUBLISH
X-PUBLISHED-TTL:P3D
REFRESH-INTERVAL:P3D
CALSCALE:GREGORIAN
BEGIN:VEVENT
DTSTART:20160911T210000Z
DTEND:20160911T223000Z
X-MICROSOFT-CDO-ALLDAYEVENT:FALSE
SUMMARY:Open Skate at RAC
DESCRIPTION:Wear Rogers Royals gear & skate free 4:00   5:30pm
X-ALT-DESC;FMTTYPE=text/html:&nbsp\;Wear Rogers Royals gear &amp\; skate free 4:00 &ndash\; 5:30pm
LOCATION:
UID:e.1321.2389
SEQUENCE:3
DTSTAMP:20260421T201910Z
URL:https://business.i94westchamber.org/events/details/open-skate-at-rac-09-11-2016-2389
END:VEVENT

END:VCALENDAR
