BEGIN:VCALENDAR
VERSION:2.0
PRODID:-//ChamberMaster//Event Calendar 2.0//EN
METHOD:PUBLISH
X-PUBLISHED-TTL:P3D
REFRESH-INTERVAL:P3D
CALSCALE:GREGORIAN
BEGIN:VEVENT
DTSTART:20150912T150000Z
DTEND:20150912T190000Z
X-MICROSOFT-CDO-ALLDAYEVENT:FALSE
SUMMARY:Open Streets STMA
DESCRIPTION:All Ages Welcome - Register Online
X-ALT-DESC;FMTTYPE=text/html:All Ages Welcome - Register Online
LOCATION:
UID:e.1321.1567
SEQUENCE:3
DTSTAMP:20260422T124735Z
URL:https://business.i94westchamber.org/events/details/open-streets-stma-09-12-2015-1567
END:VEVENT

END:VCALENDAR
