BEGIN:VCALENDAR
VERSION:2.0
PRODID:-//ChamberMaster//Event Calendar 2.0//EN
METHOD:PUBLISH
X-PUBLISHED-TTL:P3D
REFRESH-INTERVAL:P3D
CALSCALE:GREGORIAN
BEGIN:VEVENT
DTSTART:20141025T160000Z
DTEND:20141025T180000Z
X-MICROSOFT-CDO-ALLDAYEVENT:FALSE
SUMMARY:Otsego Pumpkin Patch
DESCRIPTION:FREE Pumpkin Patch Event October 25 11-1pm\n\n			\n			Come to our annual event and pick out your very own pumpkin in our pumpkin patch. There will also be games\, inflatables\,\n\n			prizes and more. Please bring a non-perishable food item for CAER. The Little Free Library is always accepting book donations.\n\n			 \n\n			Saturday October 25 Prairie Park (13355 90th St NE) 11-1pm\n			\n			\n		\n		\n			\n			MONSTER MASH DASH 5K Oct. 25\n\n			Plan on running or walking in our 3rd annual Monster Mash Dash Saturday October 25. We also have a fun 1K for kids. Prizes will be awarded to best costume and overall winners. For more info or to register please see blue tab (Programs and Registration) on left or you can call us at 763.235.3148.\n			\n		\n		\n			\n			Weather Cancellation\n\n			\n			Weather cancellations will be posted online here by 4:00 p.m. weekdays and by 7:30 a.m. on Saturdays. If there are no updated cancellation announcements please assume all scheduled events are on as scheduled.
X-ALT-DESC;FMTTYPE=text/html:<table border="0" cellpadding="4" cellspacing="0" id="dnn_recdeskCustomColorBase_ctr3021_Announcements_lstAnnouncements" style="border-collapse: collapse\;" summary="Announcements Design Table">\n	<tbody>\n		<tr>\n			<td>\n			<div class="AnnouncementHead">FREE Pumpkin Patch Event October 25 11-1pm</div>\n\n			<div class="AnnouncementDetail">\n			<div id="pastingspan1">Come to our annual event and pick out your very own pumpkin in our pumpkin patch. There will also be games\, inflatables\,</div>\n\n			<div id="pastingspan1">prizes and more. Please bring a non-perishable food item for CAER. The Little Free Library is always accepting book donations.</div>\n\n			<div>&nbsp\;</div>\n\n			<div>Saturday October 25 Prairie Park (13355 90th St NE) 11-1pm</div>\n			</div>\n			</td>\n		</tr>\n		<tr>\n			<td>\n			<div class="AnnouncementHead">MONSTER MASH DASH 5K Oct. 25</div>\n\n			<div class="AnnouncementDetail">Plan on running or walking in our 3rd annual Monster Mash Dash Saturday October 25. We also have a fun 1K for kids. Prizes will be awarded to best costume and overall winners. For more info or to register please see blue tab (Programs and Registration) on left or you can call us at 763.235.3148.</div>\n			</td>\n		</tr>\n		<tr>\n			<td>\n			<div class="AnnouncementHead">Weather Cancellation</div>\n\n			<div class="AnnouncementDetail">\n			<div class="AnnouncementHead"><span style="font-family: tahoma\; font-size: 10pt\;"><span style="color: rgb(255\, 153\, 0)\;"><strong>Weather cancellations will be posted online here by 4:00 p.m. weekdays and by 7:30 a.m. on Saturdays. If there are no updated cancellation announcements please assume all scheduled events are on as scheduled.</strong></span></span></div>\n			</div>\n			</td>\n		</tr>\n	</tbody>\n</table>\n
LOCATION:
UID:e.1321.1236
SEQUENCE:3
DTSTAMP:20260424T153416Z
URL:https://business.i94westchamber.org/events/details/otsego-pumpkin-patch-10-25-2014-1236
END:VEVENT

END:VCALENDAR
