BEGIN:VCALENDAR
VERSION:2.0
PRODID:-//ChamberMaster//Event Calendar 2.0//EN
METHOD:PUBLISH
X-PUBLISHED-TTL:P3D
REFRESH-INTERVAL:P3D
CALSCALE:GREGORIAN
BEGIN:VEVENT
DTSTART:20160809T230000Z
DTEND:20160810T010000Z
X-MICROSOFT-CDO-ALLDAYEVENT:FALSE
SUMMARY:Outdoor Adventure Night
DESCRIPTION:Do you enjoy partaking in and trying new outdoor activities? Bring the entire family and join your neighbors for an evening at Lake Independence\, Driftwood Shelter Area.
X-ALT-DESC;FMTTYPE=text/html:Do you enjoy partaking in and trying new outdoor activities? Bring the entire family and join your neighbors for an evening at Lake Independence\, Driftwood Shelter Area.
LOCATION:Lake Independence Driftwood Shelter Area
UID:e.1321.1996
SEQUENCE:3
DTSTAMP:20260421T225227Z
URL:https://business.i94westchamber.org/events/details/outdoor-adventure-night-08-09-2016-1996
END:VEVENT

END:VCALENDAR
