BEGIN:VCALENDAR
VERSION:2.0
PRODID:-//ChamberMaster//Event Calendar 2.0//EN
METHOD:PUBLISH
X-PUBLISHED-TTL:P3D
REFRESH-INTERVAL:P3D
CALSCALE:GREGORIAN
BEGIN:VEVENT
DTSTART:20160712T230000Z
DTEND:20160713T010000Z
X-MICROSOFT-CDO-ALLDAYEVENT:FALSE
SUMMARY:Painting at POUR
DESCRIPTION:Painting at POUR\n\n\nSet up your event \n\n\nBee Artsy...Bee Crafty:  \n\nGather your friends and come to POUR...we'll do the rest.
X-ALT-DESC;FMTTYPE=text/html:<h2 class="regHeader2">Painting at POUR</h2>\n\n<div class="s2" data-reactid=".0.$SITE_ROOT.$desktop_siteRoot.$PAGES_CONTAINER.1.1.$SITE_PAGES.$cee5.1.$WRchTxt19-ksv" id="WRchTxt19-ksv" style="top: 3752px\; left: 40px\; width: 203px\; position: absolute\;">\n<h6 class="font_6" style="font-size:44px\; text-align:center"><span style="color:#ED1566"><span style="font-size:44px"><span style="font-family:open sans condensed\,sans-serif">Set up your event </span></span></span></h6>\n</div>\n\n<p class="font_8"><span style="font-size:44px"><span style="color:#ED1566"><span style="text-decoration:underline"><span style="font-weight:bold">Bee Artsy...Bee Crafty:&nbsp\;</span></span></span> </span></p>\n\n<p class="font_8" style="font-size:23px"><span style="font-family:open sans condensed\,sans-serif"><span style="font-size:23px"><span class="color_8">Gather your friends and come to POUR...we&#39\;ll do the rest. </span></span></span></p>\n\n<p class="regDetails">&nbsp\;</p>\n\n<p class="regDetails">&nbsp\;</p>\n\n<p class="regDetails">&nbsp\;</p>\n
LOCATION:Pour Wine Bar and Bistro - 15704 90th St NE\, Otsego\, MN 55330
UID:e.1321.1983
SEQUENCE:3
DTSTAMP:20260421T225545Z
URL:https://business.i94westchamber.org/events/details/painting-at-pour-07-12-2016-1983
END:VEVENT

END:VCALENDAR
