BEGIN:VCALENDAR
VERSION:2.0
PRODID:-//ChamberMaster//Event Calendar 2.0//EN
METHOD:PUBLISH
X-PUBLISHED-TTL:P3D
REFRESH-INTERVAL:P3D
CALSCALE:GREGORIAN
BEGIN:VEVENT
DTSTART;VALUE=DATE:20170224
DTEND;VALUE=DATE:20170225
TRANSP:TRANSPARENT
X-MICROSOFT-CDO-ALLDAYEVENT:TRUE
SUMMARY:Pancakes & Politics with Rep. Emmer
DESCRIPTION:Join us for a warm breakfast and an update from Washington DC as we host Representative Tom Emmer.  He will provide us with his perspective on the 115th Congress and how the new congress is working with the new administration.  This informal Q&A session will include a full breakfast of pancakes\, eggs and sausage.
X-ALT-DESC;FMTTYPE=text/html:Join us for a warm breakfast and an update from Washington DC as we host Representative Tom Emmer. &nbsp\;He will provide us with his perspective on the 115th&nbsp\;Congress and how the new congress is working with the new administration. &nbsp\;This informal Q&amp\;A session will include a full breakfast of pancakes\, eggs and sausage.
LOCATION:
UID:e.1321.2599
SEQUENCE:3
DTSTAMP:20260421T144221Z
URL:https://business.i94westchamber.org/events/details/pancakes-politics-with-rep-emmer-2599
END:VEVENT

END:VCALENDAR
