BEGIN:VCALENDAR
VERSION:2.0
PRODID:-//ChamberMaster//Event Calendar 2.0//EN
METHOD:PUBLISH
X-PUBLISHED-TTL:P3D
REFRESH-INTERVAL:P3D
CALSCALE:GREGORIAN
BEGIN:VEVENT
DTSTART:20150926T163000Z
DTEND:20150926T200000Z
X-MICROSOFT-CDO-ALLDAYEVENT:FALSE
SUMMARY:Parking Lot Party
DESCRIPTION:Parking lot party 9/26 from 11:30-3:00.There will be a bouncy house\, lunch\, and more! Self Defense Bully class at 1:00
X-ALT-DESC;FMTTYPE=text/html:<span style="color:blue\;"><span style="font-size:14.0pt\;">Parking lot party 9/26 from 11:30-3:00.There will be a bouncy house\, lunch\, and more! Self Defense Bully class at 1:00</span></span>
LOCATION:11011 61st St NE\, Albertville
UID:e.1321.1726
SEQUENCE:3
DTSTAMP:20260422T124917Z
URL:https://business.i94westchamber.org/events/details/parking-lot-party-09-26-2015-1726
END:VEVENT

END:VCALENDAR
