BEGIN:VCALENDAR
VERSION:2.0
PRODID:-//ChamberMaster//Event Calendar 2.0//EN
METHOD:PUBLISH
X-PUBLISHED-TTL:P3D
REFRESH-INTERVAL:P3D
CALSCALE:GREGORIAN
BEGIN:VEVENT
DTSTART:20161025T190000Z
DTEND:20161025T230000Z
X-MICROSOFT-CDO-ALLDAYEVENT:FALSE
SUMMARY:Patient Appreciation Day
DESCRIPTION:Join us for Free Adjustments (for existing patients)\, Halloween treats\, pumpkin carving contest\, and so much more!\n\nRSVP at front desk - Costumes encouraged!
X-ALT-DESC;FMTTYPE=text/html:Join us for Free Adjustments (for existing patients)\, Halloween treats\, pumpkin carving contest\, and so much more!<br />\nRSVP at front desk - Costumes encouraged!<br />\n&nbsp\;
LOCATION:Healthsource of Rogers
UID:e.1321.2482
SEQUENCE:3
DTSTAMP:20260421T185348Z
URL:https://business.i94westchamber.org/events/details/patient-appreciation-day-2482
END:VEVENT

END:VCALENDAR
