BEGIN:VCALENDAR
VERSION:2.0
PRODID:-//ChamberMaster//Event Calendar 2.0//EN
METHOD:PUBLISH
X-PUBLISHED-TTL:P3D
REFRESH-INTERVAL:P3D
CALSCALE:GREGORIAN
BEGIN:VEVENT
DTSTART:20150307T190000Z
DTEND:20150307T200000Z
X-MICROSOFT-CDO-ALLDAYEVENT:FALSE
SUMMARY:Paws to Read With an Animal
DESCRIPTION:Volunteers will help put young readers at ease so they can cuddle up with a certified therapy animal and practice reading aloud. Most libraries host dogs and you can call ahead to see if other animals will be visiting. For children from Kindergarten - grade 4.
X-ALT-DESC;FMTTYPE=text/html:Volunteers will help put young readers at ease so they can cuddle up with a certified therapy animal and practice reading aloud. Most libraries host dogs and you can call ahead to see if other animals will be visiting. For children from Kindergarten - grade 4.
LOCATION:Rogers Library 21300 John Milless Dr. Rogers\, MN 55374
UID:e.1321.1476
SEQUENCE:3
DTSTAMP:20260424T084925Z
URL:https://business.i94westchamber.org/events/details/paws-to-read-with-an-animal-03-07-2015-1476
END:VEVENT

END:VCALENDAR
