BEGIN:VCALENDAR
VERSION:2.0
PRODID:-//ChamberMaster//Event Calendar 2.0//EN
METHOD:PUBLISH
X-PUBLISHED-TTL:P3D
REFRESH-INTERVAL:P3D
CALSCALE:GREGORIAN
BEGIN:VEVENT
DTSTART:20160925T010000Z
DTEND:20160925T030000Z
X-MICROSOFT-CDO-ALLDAYEVENT:FALSE
SUMMARY:Peabody Players 1 Year Anniversary Show!
DESCRIPTION:The Peabody Players Night of Comedy-September 24 The Peabody Players\n\nperform Improv comedy in similar fashion to the popular TV show\, "Whose Line is it Anyway?" For two hours\, our players will create scenes and jokes based on your suggestions.  Our shows are family friendly. When you come to a show\, get ready to laugh! Our comedians are some of the best in the Twin Cities.  In fact\, skip the gym and work your abs with us!  You could be close to a six-pack when you leave.  And hey--your abs won't look half bad either!  Full menu and bar available.\n\n \n\n\n\n \nOUR 1-YEAR ANNIVERSARY SHOW!!!
X-ALT-DESC;FMTTYPE=text/html:<div class="wsb-element-text" data-type="element" id="wsb-element-619480f1-3008-4b35-a602-24b9eba63b94">\n<div class="txt ">\n<p style="text-align: center\;">The Peabody Players Night of Comedy-September 24 The Peabody Players<br />\nperform Improv comedy in similar fashion to the popular TV show\, &quot\;Whose Line is it Anyway?&quot\; For two hours\, our players will create scenes and jokes based on your suggestions. &nbsp\;Our shows are family friendly. When you come to a show\, get ready to laugh! Our comedians are some of the best in the Twin Cities. &nbsp\;In fact\, skip the gym and work your abs with us! &nbsp\;You could be close to a six-pack when you leave. &nbsp\;And hey--your abs won&#39\;t look half bad either! &nbsp\;Full menu and bar available.<br />\n&nbsp\;</p>\n</div>\n</div>\n\n<p>&nbsp\;</p>\n<u><span style="color:#FF8C00\;"><span style="font-size: 24px\;"><strong><span style="font-family: special elite\;">OUR 1-YEAR ANNIVERSARY SHOW!!!</span></strong></span></span></u><br />\n<br />\n&nbsp\;
LOCATION:The Holiday Inn-Minneapolis NW-Otsego
UID:e.1321.2412
SEQUENCE:3
DTSTAMP:20260421T203620Z
URL:https://business.i94westchamber.org/events/details/peabody-players-1-year-anniversary-show-2412
END:VEVENT

END:VCALENDAR
