BEGIN:VCALENDAR
VERSION:2.0
PRODID:-//ChamberMaster//Event Calendar 2.0//EN
METHOD:PUBLISH
X-PUBLISHED-TTL:P3D
REFRESH-INTERVAL:P3D
CALSCALE:GREGORIAN
BEGIN:VEVENT
DTSTART:20161022T003000Z
DTEND:20161022T030000Z
X-MICROSOFT-CDO-ALLDAYEVENT:FALSE
SUMMARY:Peabody Players - "This Election is Killing Me"
DESCRIPTION:This Election is KILLING Me! - October 21st\nTwo candidates ...one U.S. Senate seat...\n\nonly ONE will survive!!!\n\n\n\n\n\nThis Election Is Killing Me! is an interactive\, murder-mystery dinner theater experience that will put your investigating skills to the test to figure out "WHODUNIT?"  Could it be the half-witted brother\, the opponent who's down in the polls\, or maybe it's even YOU!\n\n\n\n\n\nThis musical non-thriller turns a political fund-raiser into a rollicking whodunit that asks viewers to be armchair detectives or  if theyre not careful  potential suspects!\n\n\n\n\n\nCome and join us for a delicious 3-course meal and a night of laughs.  Its sure to be a hand-clapping\, foot-stomping\, double crossing joyride for all audiences!  \n\n\n\nDINNER choices include:\n\n\n\n*Chicken Cordon Bleu\n\n\n\n(served with bacon-cheddar mashed\n\n\n\npotatoes and broccoli).\n\n\n\n\n\n*8 oz. Sirloin Steak\n\n\n\n(served with garlic-herb mashed\n\n\n\npotatoes and green beans).\n\n\n\n\n\n***Pasta (Vegetarian option)\n\n\n\n\n\n***All entrees at the River City Extreme will be served with:  a salad and  a roll\, and vanilla cheesecake.
X-ALT-DESC;FMTTYPE=text/html:<div style="color: #dd7727\; font-size: 12px\; font-weight: bold\; padding-top: 5px\; padding-bottom: 10px\;">\n<div style="color: #dd7727\; font-size: 12px\; font-weight: bold\; padding-top: 5px\; padding-bottom: 10px\;">This Election is KILLING Me! - October 21st</div>\nTwo candidates ...one U.S. Senate seat...<br />\nonly ONE will survive!!!<br />\n<br />\n<br />\nThis Election Is Killing Me! is an interactive\, murder-mystery dinner theater experience that will put your investigating skills to the test to figure out &quot\;WHODUNIT?&quot\; &nbsp\;Could it be the half-witted brother\, the opponent who&#39\;s down in the polls\, or maybe it&#39\;s even YOU!<br />\n<br />\n<br />\nThis musical non-thriller turns a political fund-raiser into a rollicking whodunit that asks viewers to be armchair detectives or &nbsp\;if theyre not careful &nbsp\;potential suspects!<br />\n<br />\n<br />\nCome and join us for a delicious 3-course meal and a night of laughs. &nbsp\;Its sure to be a hand-clapping\, foot-stomping\, double crossing joyride for all audiences! &nbsp\;<br />\n<br />\nDINNER choices include:<br />\n<br />\n*Chicken Cordon Bleu<br />\n<br />\n(served with bacon-cheddar mashed<br />\n<br />\npotatoes and broccoli).<br />\n<br />\n<br />\n*8 oz. Sirloin Steak<br />\n<br />\n(served with garlic-herb mashed<br />\n<br />\npotatoes and green beans).<br />\n<br />\n<br />\n***Pasta (Vegetarian option)<br />\n<br />\n<br />\n***All entrees at the River City Extreme will be served with: &nbsp\;a salad and &nbsp\;a roll\, and vanilla cheesecake.</div>\n
LOCATION:
UID:e.1321.2415
SEQUENCE:3
DTSTAMP:20260421T190214Z
URL:https://business.i94westchamber.org/events/details/peabody-players-this-election-is-killing-me-2415
END:VEVENT

END:VCALENDAR
