BEGIN:VCALENDAR
VERSION:2.0
PRODID:-//ChamberMaster//Event Calendar 2.0//EN
METHOD:PUBLISH
X-PUBLISHED-TTL:P3D
REFRESH-INTERVAL:P3D
CALSCALE:GREGORIAN
BEGIN:VEVENT
DTSTART:20160930T003000Z
DTEND:20160930T030000Z
X-MICROSOFT-CDO-ALLDAYEVENT:FALSE
SUMMARY:Peabody Players - "This Election is Killing Me"
DESCRIPTION:This Election is KILLING Me! - October 15th\n\n\nTwo candidates ...one U.S. Senate seat...\n\nonly ONE will survive!!!\n\n\n\n\n\nThis Election Is Killing Me! is an interactive\, murder-mystery dinner theater experience that will put your investigating skills to the test to figure out "WHODUNIT?"  Could it be the half-witted brother\, the opponent who's down in the polls\, or maybe it's even YOU!\n\n\n\n\n\nThis musical non-thriller turns a political fund-raiser into a rollicking whodunit that asks viewers to be armchair detectives or  if theyre not careful  potential suspects!\n\n\n\n\n\nCome and join us for a delicious 3-course meal and a night of laughs.  Its sure to be a hand-clapping\, foot-stomping\, doublecrossing joyride for all audiences!  \n\n\n\nDINNER choices include:\n\n\n\n--8 oz. Sirloin Steak with saut ed mushrooms (prepared medium)\n\n\n\n--Salmon with Mango Salsa\n\n\n\n--Herb Crusted Chicken with white wine cream sauce\n\n\n\n--Garden Penne Pasta (vegetarian option)\n\n\n\n(***All entree's will be served with:  a Caesar salad\, grilled Ciabatta bread\, saut ed green beans\, herb roasted baby red potatoes\,and vanilla cheesecake with strawberry topping.)
X-ALT-DESC;FMTTYPE=text/html:<div style="color: #dd7727\; font-size: 12px\; font-weight: bold\; padding-top: 5px\; padding-bottom: 10px\;">This Election is KILLING Me! - October 15th</div>\n<br />\nTwo candidates ...one U.S. Senate seat...<br />\nonly ONE will survive!!!<br />\n<br />\n<br />\nThis Election Is Killing Me! is an interactive\, murder-mystery dinner theater experience that will put your investigating skills to the test to figure out &quot\;WHODUNIT?&quot\; &nbsp\;Could it be the half-witted brother\, the opponent who&#39\;s down in the polls\, or maybe it&#39\;s even YOU!<br />\n<br />\n<br />\nThis musical non-thriller turns a political fund-raiser into a rollicking whodunit that asks viewers to be armchair detectives or &nbsp\;if theyre not careful &nbsp\;potential suspects!<br />\n<br />\n<br />\nCome and join us for a delicious 3-course meal and a night of laughs. &nbsp\;Its sure to be a hand-clapping\, foot-stomping\, doublecrossing joyride for all audiences! &nbsp\;<br />\n<br />\nDINNER choices include:<br />\n<br />\n--8 oz. Sirloin Steak with saut&eacute\;ed mushrooms (prepared medium)<br />\n<br />\n--Salmon with Mango Salsa<br />\n<br />\n--Herb Crusted Chicken with white wine cream sauce<br />\n<br />\n--Garden Penne Pasta (vegetarian option)<br />\n<br />\n(***All entree&#39\;s will be served with: &nbsp\;a Caesar salad\, grilled Ciabatta bread\, saut&eacute\;ed green beans\, herb roasted baby red potatoes\,and vanilla cheesecake with strawberry topping.)
LOCATION:
UID:e.1321.2416
SEQUENCE:3
DTSTAMP:20260421T214703Z
URL:https://business.i94westchamber.org/events/details/peabody-players-this-election-is-killing-me-2416
END:VEVENT

END:VCALENDAR
