BEGIN:VCALENDAR
VERSION:2.0
PRODID:-//ChamberMaster//Event Calendar 2.0//EN
METHOD:PUBLISH
X-PUBLISHED-TTL:P3D
REFRESH-INTERVAL:P3D
CALSCALE:GREGORIAN
BEGIN:VEVENT
DTSTART:20141206T160000Z
DTEND:20141206T180000Z
X-MICROSOFT-CDO-ALLDAYEVENT:FALSE
SUMMARY:Pictures with Santa
DESCRIPTION:Join for pictures with Santa at Corcoran City Hall. Free with food shelf donation. Live reindeer and Santa's Helpers.. Reindeer rides!!
X-ALT-DESC;FMTTYPE=text/html:Join for pictures with Santa at Corcoran City Hall. Free with food shelf donation. Live reindeer and Santa&#39\;s Helpers.. Reindeer rides!!
LOCATION:
UID:e.1321.1360
SEQUENCE:3
DTSTAMP:20260424T130000Z
URL:https://business.i94westchamber.org/events/details/pictures-with-santa-12-06-2014-1360
END:VEVENT

END:VCALENDAR
