BEGIN:VCALENDAR
VERSION:2.0
PRODID:-//ChamberMaster//Event Calendar 2.0//EN
METHOD:PUBLISH
X-PUBLISHED-TTL:P3D
REFRESH-INTERVAL:P3D
CALSCALE:GREGORIAN
BEGIN:VEVENT
DTSTART:20170510T150000Z
DTEND:20170510T170000Z
X-MICROSOFT-CDO-ALLDAYEVENT:FALSE
SUMMARY:Play is Serious Business!
DESCRIPTION:Who says it has to be all fun and no games?!?  Learn how incorporating PLAY into your daily business operations and leadership styles can have immediate positive benefits!  Through the use of Improv Comedy\, you will learn how to think on your feet\, trust your instincts\, reduce stress and have FUN.  This workshop will help improve trust in yourself and others\, enhance teamwork skills\, fuel creativity and innovation\, authentically connect with others\, and most importantly learn how to PLAY again!  Also learn how body language plays a critical role in how others see you\, and how your body language influences what you believe about yourself.  You don't want to miss this workshop!  Sign up today!  Space is limited!
X-ALT-DESC;FMTTYPE=text/html:Who says it has to be all fun and no games?!? &nbsp\;Learn how incorporating PLAY into your daily business operations and leadership styles can have immediate positive benefits! &nbsp\;Through the use of Improv Comedy\, you will learn how to think on your feet\, trust your instincts\, reduce stress and have FUN. &nbsp\;This workshop will help improve trust in yourself and others\, enhance teamwork skills\, fuel creativity and innovation\, authentically connect with others\, and most importantly learn how to PLAY again! &nbsp\;Also learn how body language plays a critical role in how others see you\, and how your body language influences what you believe about yourself. &nbsp\;You don&#39\;t want to miss this workshop! &nbsp\;Sign up today! &nbsp\;Space is limited!
LOCATION:St. Michael City Center 11800 Town Center Drive NE Saint Michael\, MN 55376 United States
UID:e.1321.2971
SEQUENCE:3
DTSTAMP:20260421T083333Z
URL:https://business.i94westchamber.org/events/details/play-is-serious-business-2971
END:VEVENT

END:VCALENDAR
