BEGIN:VCALENDAR
VERSION:2.0
PRODID:-//ChamberMaster//Event Calendar 2.0//EN
METHOD:PUBLISH
X-PUBLISHED-TTL:P3D
REFRESH-INTERVAL:P3D
CALSCALE:GREGORIAN
BEGIN:VEVENT
DTSTART:20161022T200000Z
DTEND:20161022T213000Z
X-MICROSOFT-CDO-ALLDAYEVENT:FALSE
SUMMARY:Pumpkin Decorating Event - Settlers Park
DESCRIPTION:Historical Society Pumpkin Decorating Event (Settlers Park)\nSaturday\, October 22\, 2016 at 3:00 PM\n\nto Saturday\, October 22\, 2016 at 4:30 PM
X-ALT-DESC;FMTTYPE=text/html:<h2>Historical Society Pumpkin Decorating Event (Settlers Park)</h2>\n<time>Saturday\, October 22\, 2016 at 3:00 PM</time><br />\nto Saturday\, October 22\, 2016 at 4:30 PM
LOCATION:
UID:e.1321.2393
SEQUENCE:3
DTSTAMP:20260421T190220Z
URL:https://business.i94westchamber.org/events/details/pumpkin-decorating-event-settlers-park-10-22-2016-2393
END:VEVENT

END:VCALENDAR
