BEGIN:VCALENDAR
VERSION:2.0
PRODID:-//ChamberMaster//Event Calendar 2.0//EN
METHOD:PUBLISH
X-PUBLISHED-TTL:P3D
REFRESH-INTERVAL:P3D
CALSCALE:GREGORIAN
BEGIN:VEVENT
DTSTART:20170304T190000Z
DTEND:20170304T203000Z
X-MICROSOFT-CDO-ALLDAYEVENT:FALSE
SUMMARY:Read with an Animal
DESCRIPTION:Volunteers will help put young readers at ease so they can cuddle up with a certified therapy animal and practice reading aloud. Most libraries host dogs and you can call ahead to see if other animals will be visiting. Collaborator: PAWS to READ is a program of North Star Therapy Animals (NSTA). All handlers are required to be trained in an additional children's reading program that focuses on utilizing registered therapy animals.
X-ALT-DESC;FMTTYPE=text/html:Volunteers will help put young readers at ease so they can cuddle up with a certified therapy animal and practice reading aloud. Most libraries host dogs and you can call ahead to see if other animals will be visiting. Collaborator: PAWS to READ is a program of North Star Therapy Animals (NSTA). All handlers are required to be trained in an additional children&#39\;s reading program that focuses on utilizing registered therapy animals.
LOCATION:Rogers Library
UID:e.1321.2643
SEQUENCE:3
DTSTAMP:20260421T112923Z
URL:https://business.i94westchamber.org/events/details/read-with-an-animal-2643
END:VEVENT

END:VCALENDAR
