BEGIN:VCALENDAR
VERSION:2.0
PRODID:-//ChamberMaster//Event Calendar 2.0//EN
METHOD:PUBLISH
X-PUBLISHED-TTL:P3D
REFRESH-INTERVAL:P3D
CALSCALE:GREGORIAN
BEGIN:VEVENT
DTSTART:20141026T180000Z
DTEND:20141026T220000Z
X-MICROSOFT-CDO-ALLDAYEVENT:FALSE
SUMMARY:Refuse To Be A Victim
DESCRIPTION:Refuse to be a Victim is an award winning personal safety and crime\n\nprevention course. The course teaches participants how to improve their\n\npersonal safety strategies\, and what techniques and tactics can be used to\n\nhelp avoid becoming easy victims of crime. In general\, seminars heighten\n\npublic awareness of what can and should be done to stay safe. Some topics\n\ncovered are:\n\n\n\nPsychology of Criminal Predators\n\nMental Preparedness\n\nHome Security\n\nPhysical Security\n\nAutomobile Security\n\nOut-Of-Town Travel Security\n\nStalking\n\nWatch the attached video for more information on this great class!\n\nhttps://www.youtube.com/watch?v=qMTocXkILPc
X-ALT-DESC;FMTTYPE=text/html:<p>Refuse to be a Victim is an award winning personal safety and crime<br />\nprevention course. The course teaches participants how to improve their<br />\npersonal safety strategies\, and what techniques and tactics can be used to<br />\nhelp avoid becoming easy victims of crime. In general\, seminars heighten<br />\npublic awareness of what can and should be done to stay safe. Some topics<br />\ncovered are:<br />\n<br />\nPsychology of Criminal Predators<br />\nMental Preparedness<br />\nHome Security<br />\nPhysical Security<br />\nAutomobile Security<br />\nOut-Of-Town Travel Security<br />\nStalking</p>\n\n<p>Watch the attached video for more information on this great class!</p>\n\n<p><a href="https://www.youtube.com/watch?v=qMTocXkILPc"><font color="#666666">https://www.youtube.com/watch?v=qMTocXkILPc</font></a><br />\n&nbsp\;</p>\n
LOCATION:14166 Northdale Blvd\, Rogers\, MN 55374
UID:e.1321.1277
SEQUENCE:3
DTSTAMP:20260424T155418Z
URL:https://business.i94westchamber.org/events/details/refuse-to-be-a-victim-10-26-2014-1277
END:VEVENT

END:VCALENDAR
