BEGIN:VCALENDAR
VERSION:2.0
PRODID:-//ChamberMaster//Event Calendar 2.0//EN
METHOD:PUBLISH
X-PUBLISHED-TTL:P3D
REFRESH-INTERVAL:P3D
CALSCALE:GREGORIAN
BEGIN:VEVENT
DTSTART:20160311T170000Z
DTEND:20160311T173000Z
X-MICROSOFT-CDO-ALLDAYEVENT:FALSE
SUMMARY:Ribbon Cutting - Anne Rothstein / American Family Insurance
DESCRIPTION:Please join us as we welcome\n\nAnne Rothstein - American Family Insurance\n\nto the I-94 West Chamber of Commerce!
X-ALT-DESC;FMTTYPE=text/html:Please join us as we welcome<br />\nAnne Rothstein - American Family Insurance<br />\nto the I-94 West Chamber of Commerce!
LOCATION:5269 US Highway 12 Maple Plain\, MN 55359
UID:e.1321.1872
SEQUENCE:3
DTSTAMP:20260422T042231Z
URL:https://business.i94westchamber.org/events/details/ribbon-cutting-anne-rothstein-american-family-insurance-03-11-2016-1872
END:VEVENT

END:VCALENDAR
