BEGIN:VCALENDAR
VERSION:2.0
PRODID:-//ChamberMaster//Event Calendar 2.0//EN
METHOD:PUBLISH
X-PUBLISHED-TTL:P3D
REFRESH-INTERVAL:P3D
CALSCALE:GREGORIAN
BEGIN:VEVENT
DTSTART:20221012T213000Z
DTEND:20221012T220000Z
X-MICROSOFT-CDO-ALLDAYEVENT:FALSE
SUMMARY:Ribbon Cutting at BrightStar Care of Maple Grove
DESCRIPTION:Join our Ambassador Committee for a ribbon cutting ceremony!
X-ALT-DESC;FMTTYPE=text/html:Join our Ambassador Committee for a ribbon cutting ceremony!&nbsp\;
LOCATION:BrightStar Care of Maple Grove 6240 Quinwood Lane North Suite 208 Maple Grove\, MN 55369
UID:e.1321.7424
SEQUENCE:3
DTSTAMP:20260421T113502Z
URL:https://business.i94westchamber.org/events/details/ribbon-cutting-at-brightstar-care-of-maple-grove-7424
END:VEVENT

END:VCALENDAR
