BEGIN:VCALENDAR
VERSION:2.0
PRODID:-//ChamberMaster//Event Calendar 2.0//EN
METHOD:PUBLISH
X-PUBLISHED-TTL:P3D
REFRESH-INTERVAL:P3D
CALSCALE:GREGORIAN
BEGIN:VEVENT
DTSTART:20221011T160000Z
DTEND:20221011T163000Z
X-MICROSOFT-CDO-ALLDAYEVENT:FALSE
SUMMARY:Ribbon Cutting at Edward Jones\, Derek Larson
DESCRIPTION:Join our Ambassador Committee for a ribbon cutting ceremony at the new office of Edward Jones\, Derek Larson!
X-ALT-DESC;FMTTYPE=text/html:Join our Ambassador Committee for a ribbon cutting ceremony at the new office of Edward Jones\, Derek Larson!&nbsp\;&nbsp\;
LOCATION:Edward Jones\, Derek Larson 610 Crossroads Campus Dr Suite 107\, Buffalo\, MN 55313
UID:e.1321.7429
SEQUENCE:3
DTSTAMP:20260421T113255Z
URL:https://business.i94westchamber.org/events/details/ribbon-cutting-at-edward-jones-derek-larson-7429
END:VEVENT

END:VCALENDAR
