BEGIN:VCALENDAR
VERSION:2.0
PRODID:-//ChamberMaster//Event Calendar 2.0//EN
METHOD:PUBLISH
X-PUBLISHED-TTL:P3D
REFRESH-INTERVAL:P3D
CALSCALE:GREGORIAN
BEGIN:VEVENT
DTSTART:20220915T203000Z
DTEND:20220915T203000Z
X-MICROSOFT-CDO-ALLDAYEVENT:FALSE
SUMMARY:Ribbon Cutting at Keller Williams Classic Realty NW
DESCRIPTION:Join us for a ribbon cutting at Keller Williams Classic Realty NW
X-ALT-DESC;FMTTYPE=text/html:<p><span style="font-size:14px\;"><strong>Join us for a ribbon cutting at Keller Williams Classic Realty NW</strong></span></p>\n
LOCATION:10402 73rd Ave N. Maple Grove
UID:e.1321.7408
SEQUENCE:3
DTSTAMP:20260421T131707Z
URL:https://business.i94westchamber.org/events/details/ribbon-cutting-at-keller-williams-classic-realty-nw-7408
END:VEVENT

END:VCALENDAR
