BEGIN:VCALENDAR
VERSION:2.0
PRODID:-//ChamberMaster//Event Calendar 2.0//EN
METHOD:PUBLISH
X-PUBLISHED-TTL:P3D
REFRESH-INTERVAL:P3D
CALSCALE:GREGORIAN
BEGIN:VEVENT
DTSTART:20220927T160000Z
DTEND:20220927T163000Z
X-MICROSOFT-CDO-ALLDAYEVENT:FALSE
SUMMARY:Ribbon Cutting at Michels
DESCRIPTION:Ribbon Cutting at Michels
X-ALT-DESC;FMTTYPE=text/html:<p><strong><span style="font-size:11.0pt\;">Ribbon Cutting at Michels</span></strong><br />\n&nbsp\;</p>\n
LOCATION:9950 73rd ST NE Otsego
UID:e.1321.7383
SEQUENCE:3
DTSTAMP:20260421T143927Z
URL:https://business.i94westchamber.org/events/details/ribbon-cutting-at-michels-7383
END:VEVENT

END:VCALENDAR
