BEGIN:VCALENDAR
VERSION:2.0
PRODID:-//ChamberMaster//Event Calendar 2.0//EN
METHOD:PUBLISH
X-PUBLISHED-TTL:P3D
REFRESH-INTERVAL:P3D
CALSCALE:GREGORIAN
BEGIN:VEVENT
DTSTART:20141209T223000Z
DTEND:20141209T224000Z
X-MICROSOFT-CDO-ALLDAYEVENT:FALSE
SUMMARY:Ribbon Cutting for Green Bookeeping & Accounting
DESCRIPTION:Ribbon Cutting for Green Bookkeeping & Accounting
X-ALT-DESC;FMTTYPE=text/html:Ribbon Cutting for Green Bookkeeping &amp\; Accounting
LOCATION:Chamber Office
UID:e.1321.1332
SEQUENCE:3
DTSTAMP:20260424T141811Z
URL:https://business.i94westchamber.org/events/details/ribbon-cutting-for-green-bookeeping-accounting-12-09-2014-1332
END:VEVENT

END:VCALENDAR
