BEGIN:VCALENDAR
VERSION:2.0
PRODID:-//ChamberMaster//Event Calendar 2.0//EN
METHOD:PUBLISH
X-PUBLISHED-TTL:P3D
REFRESH-INTERVAL:P3D
CALSCALE:GREGORIAN
BEGIN:VEVENT
DTSTART:20141203T170000Z
DTEND:20141204T051500Z
X-MICROSOFT-CDO-ALLDAYEVENT:FALSE
SUMMARY:Ribbon Cutting for North Wright County Today
DESCRIPTION:Ribbon Cutting for North Wright Count Today
X-ALT-DESC;FMTTYPE=text/html:Ribbon Cutting for North Wright Count Today
LOCATION:At the Chamber Office during the Open House
UID:e.1321.1331
SEQUENCE:3
DTSTAMP:20260424T125241Z
URL:https://business.i94westchamber.org/events/details/ribbon-cutting-for-north-wright-county-today-12-03-2014-1331
END:VEVENT

END:VCALENDAR
