BEGIN:VCALENDAR
VERSION:2.0
PRODID:-//ChamberMaster//Event Calendar 2.0//EN
METHOD:PUBLISH
X-PUBLISHED-TTL:P3D
REFRESH-INTERVAL:P3D
CALSCALE:GREGORIAN
BEGIN:VEVENT
DTSTART:20141217T160000Z
DTEND:20141217T161500Z
X-MICROSOFT-CDO-ALLDAYEVENT:FALSE
SUMMARY:Ribbon Cutting for Red Technologies
DESCRIPTION:Ribbon Cutting for Red Technologies immediately following the WoLF.
X-ALT-DESC;FMTTYPE=text/html:Ribbon Cutting for Red Technologies immediately following the WoLF.
LOCATION:Holiday Inn Otsego
UID:e.1321.1334
SEQUENCE:3
DTSTAMP:20260424T125014Z
URL:https://business.i94westchamber.org/events/details/ribbon-cutting-for-red-technologies-12-17-2014-1334
END:VEVENT

END:VCALENDAR
