BEGIN:VCALENDAR
VERSION:2.0
PRODID:-//ChamberMaster//Event Calendar 2.0//EN
METHOD:PUBLISH
X-PUBLISHED-TTL:P3D
REFRESH-INTERVAL:P3D
CALSCALE:GREGORIAN
BEGIN:VEVENT
DTSTART:20160811T180000Z
DTEND:20160811T182000Z
X-MICROSOFT-CDO-ALLDAYEVENT:FALSE
SUMMARY:Ribbon Cutting for Sports Clips - Rogers
DESCRIPTION:Join us in welcoming Sport Clips to Rogers & the Chamber.
X-ALT-DESC;FMTTYPE=text/html:Join us in welcoming Sport Clips to Rogers &amp\; the Chamber.
LOCATION:Sport Clips Haircuts - Rogers 13545 Northdale Blvd Suite 10
UID:e.1321.1988
SEQUENCE:3
DTSTAMP:20260421T213805Z
URL:https://business.i94westchamber.org/events/details/ribbon-cutting-for-sports-clips-rogers-08-11-2016-1988
END:VEVENT

END:VCALENDAR
