BEGIN:VCALENDAR
VERSION:2.0
PRODID:-//ChamberMaster//Event Calendar 2.0//EN
METHOD:PUBLISH
X-PUBLISHED-TTL:P3D
REFRESH-INTERVAL:P3D
CALSCALE:GREGORIAN
BEGIN:VEVENT
DTSTART:20160316T150000Z
DTEND:20160316T151000Z
X-MICROSOFT-CDO-ALLDAYEVENT:FALSE
SUMMARY:Ribbon Cutting - Heartland Organizing
DESCRIPTION:Please join us as we welcome\n\nHeartland Organizing to the\n\nI-94 West Chamber of Commerce!\n\n\n\nThis ribbon cutting celebration will take place immediately following the\n\nELEVATE for Success meeting at Dehn's Country Manor.
X-ALT-DESC;FMTTYPE=text/html:Please join us as we welcome<br />\nHeartland Organizing to the<br />\nI-94 West Chamber of Commerce!<br />\n<br />\nThis ribbon cutting celebration will take place immediately following the<br />\nELEVATE for Success meeting at Dehn&#39\;s Country Manor.
LOCATION:Dehn's Country Manor 11281 Fernbrook Ln N\, Dayton
UID:e.1321.1875
SEQUENCE:3
DTSTAMP:20260422T042042Z
URL:https://business.i94westchamber.org/events/details/ribbon-cutting-heartland-organizing-03-16-2016-1875
END:VEVENT

END:VCALENDAR
